BEGIN:VCALENDAR
VERSION:2.0
PRODID:-//Barksdale Life - ECPv6.15.20//NONSGML v1.0//EN
CALSCALE:GREGORIAN
METHOD:PUBLISH
X-WR-CALNAME:Barksdale Life
X-ORIGINAL-URL:https://barksdalelife.com
X-WR-CALDESC:Events for Barksdale Life
REFRESH-INTERVAL;VALUE=DURATION:PT1H
X-Robots-Tag:noindex
X-PUBLISHED-TTL:PT1H
BEGIN:VTIMEZONE
TZID:UTC
BEGIN:STANDARD
TZOFFSETFROM:+0000
TZOFFSETTO:+0000
TZNAME:UTC
DTSTART:20250101T000000
END:STANDARD
END:VTIMEZONE
BEGIN:VEVENT
DTSTART;TZID=UTC:20260502T100000
DTEND;TZID=UTC:20260502T150000
DTSTAMP:20260422T141248
CREATED:20260408T184320Z
LAST-MODIFIED:20260408T184320Z
UID:10000692-1777716000-1777734000@barksdalelife.com
SUMMARY:Wood Shop Certification Class
DESCRIPTION:Date: May 2 and 9 at 10am\nPrice: $95 per person\, $170 per two people (spouse or relative); price includes all instruction and supplies\nLearn how to build a two shelf bookcase from the pros in the Wood Shop!\nTo sign up call the Wood Shop at 318-456-3409.\nSign ups must be at least 72 hours before the class.
URL:https://barksdalelife.com/event/wood-shop-certification-class-9/2026-05-02/
ATTACH;FMTTYPE=image/jpeg:https://barksdalelife.com/wp-content/uploads/2026/04/Wood-Class-May-26-social.jpg
END:VEVENT
BEGIN:VEVENT
DTSTART;TZID=UTC:20260509T100000
DTEND;TZID=UTC:20260509T150000
DTSTAMP:20260422T141248
CREATED:20260408T184320Z
LAST-MODIFIED:20260408T184320Z
UID:10000693-1778320800-1778338800@barksdalelife.com
SUMMARY:Wood Shop Certification Class
DESCRIPTION:Date: May 2 and 9 at 10am\nPrice: $95 per person\, $170 per two people (spouse or relative); price includes all instruction and supplies\nLearn how to build a two shelf bookcase from the pros in the Wood Shop!\nTo sign up call the Wood Shop at 318-456-3409.\nSign ups must be at least 72 hours before the class.
URL:https://barksdalelife.com/event/wood-shop-certification-class-9/2026-05-09/
ATTACH;FMTTYPE=image/jpeg:https://barksdalelife.com/wp-content/uploads/2026/04/Wood-Class-May-26-social.jpg
END:VEVENT
END:VCALENDAR