BEGIN:VCALENDAR
VERSION:2.0
PRODID:-//Barksdale Life - ECPv6.15.20//NONSGML v1.0//EN
CALSCALE:GREGORIAN
METHOD:PUBLISH
X-WR-CALNAME:Barksdale Life
X-ORIGINAL-URL:https://barksdalelife.com
X-WR-CALDESC:Events for Barksdale Life
REFRESH-INTERVAL;VALUE=DURATION:PT1H
X-Robots-Tag:noindex
X-PUBLISHED-TTL:PT1H
BEGIN:VTIMEZONE
TZID:UTC
BEGIN:STANDARD
TZOFFSETFROM:+0000
TZOFFSETTO:+0000
TZNAME:UTC
DTSTART:20250101T000000
END:STANDARD
END:VTIMEZONE
BEGIN:VEVENT
DTSTART;TZID=UTC:20260421T110000
DTEND;TZID=UTC:20260421T180000
DTSTAMP:20260421T082412
CREATED:20260413T162125Z
LAST-MODIFIED:20260413T162125Z
UID:10000703-1776769200-1776794400@barksdalelife.com
SUMMARY:Military Child Tuesday's
DESCRIPTION:Dates: April 7\, 14\, 21\, and 28\nLocation: Bomber Alley Bowling Center\nTime: Deal starts at 11am each day the deal is offered\nThe Bomber Alley Bowling Center is celebrating the Month of the Military Child every Tuesday in April! Enjoy $1.75 games per person\, shoe rentals for $3\, and kids eat FREE starting at 5pm on Tuesdays in April!\nFor further questions about the deal call 318-456-4133.
URL:https://barksdalelife.com/event/military-child-tuesdays/2026-04-21/
ATTACH;FMTTYPE=image/jpeg:https://barksdalelife.com/wp-content/uploads/2026/04/Military-Child-Bowling-April-26-social.jpg
END:VEVENT
BEGIN:VEVENT
DTSTART;TZID=UTC:20260428T110000
DTEND;TZID=UTC:20260428T180000
DTSTAMP:20260421T082412
CREATED:20260413T162125Z
LAST-MODIFIED:20260413T162125Z
UID:10000704-1777374000-1777399200@barksdalelife.com
SUMMARY:Military Child Tuesday's
DESCRIPTION:Dates: April 7\, 14\, 21\, and 28\nLocation: Bomber Alley Bowling Center\nTime: Deal starts at 11am each day the deal is offered\nThe Bomber Alley Bowling Center is celebrating the Month of the Military Child every Tuesday in April! Enjoy $1.75 games per person\, shoe rentals for $3\, and kids eat FREE starting at 5pm on Tuesdays in April!\nFor further questions about the deal call 318-456-4133.
URL:https://barksdalelife.com/event/military-child-tuesdays/2026-04-28/
ATTACH;FMTTYPE=image/jpeg:https://barksdalelife.com/wp-content/uploads/2026/04/Military-Child-Bowling-April-26-social.jpg
END:VEVENT
END:VCALENDAR